BEGIN:VCALENDAR
VERSION:2.0
PRODID:-//Patton School PTA - ECPv6.15.20//NONSGML v1.0//EN
CALSCALE:GREGORIAN
METHOD:PUBLISH
X-ORIGINAL-URL:https://pspta.org
X-WR-CALDESC:Events for Patton School PTA
REFRESH-INTERVAL;VALUE=DURATION:PT1H
X-Robots-Tag:noindex
X-PUBLISHED-TTL:PT1H
BEGIN:VTIMEZONE
TZID:UTC
BEGIN:STANDARD
TZOFFSETFROM:+0000
TZOFFSETTO:+0000
TZNAME:UTC
DTSTART:20240101T000000
END:STANDARD
END:VTIMEZONE
BEGIN:VEVENT
DTSTART;VALUE=DATE:20251222
DTEND;VALUE=DATE:20260103
DTSTAMP:20260424T044858
CREATED:20250929T175054Z
LAST-MODIFIED:20250929T175054Z
UID:269-1766361600-1767398399@pspta.org
SUMMARY:Winter Break - No School
DESCRIPTION:Don’t forget that there is No School from December 22\, 2025 through January 2\, 2026.
URL:https://pspta.org/event/winter-break-no-school/
LOCATION:Patton School\, 1616 N Patton Ave\, Arlington Heights\, IL\, 60004\, United States
END:VEVENT
BEGIN:VEVENT
DTSTART;VALUE=DATE:20260105
DTEND;VALUE=DATE:20260106
DTSTAMP:20260424T044858
CREATED:20250929T175154Z
LAST-MODIFIED:20250929T175224Z
UID:271-1767571200-1767657599@pspta.org
SUMMARY:School Improvement Day - No School
DESCRIPTION:Arlington Heights School District 25\nSchool Improvement Day | Staff Only
URL:https://pspta.org/event/school-improvement-day-no-school/
LOCATION:Patton School\, 1616 N Patton Ave\, Arlington Heights\, IL\, 60004\, United States
END:VEVENT
BEGIN:VEVENT
DTSTART;VALUE=DATE:20260119
DTEND;VALUE=DATE:20260120
DTSTAMP:20260424T044858
CREATED:20250929T175351Z
LAST-MODIFIED:20250929T175351Z
UID:273-1768780800-1768867199@pspta.org
SUMMARY:Martin Luther King Jr. Day - All Schools Closed
DESCRIPTION:
URL:https://pspta.org/event/martin-luther-king-jr-day-all-schools-closed/
LOCATION:Patton School\, 1616 N Patton Ave\, Arlington Heights\, IL\, 60004\, United States
END:VEVENT
END:VCALENDAR