BEGIN:VCALENDAR
VERSION:2.0
PRODID:-//Patton School PTA - ECPv6.15.20//NONSGML v1.0//EN
CALSCALE:GREGORIAN
METHOD:PUBLISH
X-WR-CALNAME:Patton School PTA
X-ORIGINAL-URL:https://pspta.org
X-WR-CALDESC:Events for Patton School PTA
REFRESH-INTERVAL;VALUE=DURATION:PT1H
X-Robots-Tag:noindex
X-PUBLISHED-TTL:PT1H
BEGIN:VTIMEZONE
TZID:UTC
BEGIN:STANDARD
TZOFFSETFROM:+0000
TZOFFSETTO:+0000
TZNAME:UTC
DTSTART:20250101T000000
END:STANDARD
END:VTIMEZONE
BEGIN:VEVENT
DTSTART;VALUE=DATE:20260505
DTEND;VALUE=DATE:20260506
DTSTAMP:20260423T211846
CREATED:20250929T175653Z
LAST-MODIFIED:20250929T175653Z
UID:279-1777939200-1778025599@pspta.org
SUMMARY:Memorial Day - No School
DESCRIPTION:Arlington Heights School District 25\nMemorial Day | All Schools Closed
URL:https://pspta.org/event/memorial-day-no-school/
LOCATION:Patton School\, 1616 N Patton Ave\, Arlington Heights\, IL\, 60004\, United States
END:VEVENT
BEGIN:VEVENT
DTSTART;VALUE=DATE:20260604
DTEND;VALUE=DATE:20260605
DTSTAMP:20260423T211846
CREATED:20250929T175816Z
LAST-MODIFIED:20250929T175816Z
UID:281-1780531200-1780617599@pspta.org
SUMMARY:Last Day of School
DESCRIPTION:June 4th will be the last day of school for the 2025-2026 school year!
URL:https://pspta.org/event/last-day-of-school/
LOCATION:Patton School\, 1616 N Patton Ave\, Arlington Heights\, IL\, 60004\, United States
END:VEVENT
END:VCALENDAR