BEGIN:VCALENDAR
VERSION:2.0
PRODID:-//Patton School PTA - ECPv6.15.20//NONSGML v1.0//EN
CALSCALE:GREGORIAN
METHOD:PUBLISH
X-WR-CALNAME:Patton School PTA
X-ORIGINAL-URL:https://pspta.org
X-WR-CALDESC:Events for Patton School PTA
REFRESH-INTERVAL;VALUE=DURATION:PT1H
X-Robots-Tag:noindex
X-PUBLISHED-TTL:PT1H
BEGIN:VTIMEZONE
TZID:UTC
BEGIN:STANDARD
TZOFFSETFROM:+0000
TZOFFSETTO:+0000
TZNAME:UTC
DTSTART:20250101T000000
END:STANDARD
END:VTIMEZONE
BEGIN:VEVENT
DTSTART;VALUE=DATE:20260323
DTEND;VALUE=DATE:20260328
DTSTAMP:20260424T031624
CREATED:20250929T175438Z
LAST-MODIFIED:20250929T175438Z
UID:275-1774224000-1774655999@pspta.org
SUMMARY:Spring Break - No School
DESCRIPTION:
URL:https://pspta.org/event/spring-break-no-school/
LOCATION:Patton School\, 1616 N Patton Ave\, Arlington Heights\, IL\, 60004\, United States
END:VEVENT
END:VCALENDAR